BEGIN:VCALENDAR
PRODID:-//eluceo/ical//2.0/EN
VERSION:2.0
CALSCALE:GREGORIAN
BEGIN:VEVENT
UID:611077da01ac4c9f0030ced51a85d66a
DTSTAMP:20260425T135749Z
SUMMARY:Suggestion And Go (1/4)
DESCRIPTION:taught by Jim Wood$\nat Online
DTSTART;TZID=America/Los_Angeles:20220315T110000
DTEND;TZID=America/Los_Angeles:20220315T130000
LOCATION:Online
END:VEVENT
BEGIN:VEVENT
UID:2da18550b72e83e26f38ff1f224c5996
DTSTAMP:20260425T135749Z
SUMMARY:Suggestion And Go (2/4)
DESCRIPTION:taught by Jim Wood$\nat Online
DTSTART;TZID=America/Los_Angeles:20220322T110000
DTEND;TZID=America/Los_Angeles:20220322T130000
LOCATION:Online
END:VEVENT
BEGIN:VEVENT
UID:da7692a42eb20b027c9c557b1c4e4d96
DTSTAMP:20260425T135749Z
SUMMARY:Suggestion And Go (3/4)
DESCRIPTION:taught by Jim Wood$\nat Online
DTSTART;TZID=America/Los_Angeles:20220329T110000
DTEND;TZID=America/Los_Angeles:20220329T130000
LOCATION:Online
END:VEVENT
BEGIN:VEVENT
UID:b968c21b9c441b7d589cb0e38d2a43d3
DTSTAMP:20260425T135749Z
SUMMARY:Suggestion And Go (4/4)
DESCRIPTION:taught by Jim Wood$\nat Online
DTSTART;TZID=America/Los_Angeles:20220405T110000
DTEND;TZID=America/Los_Angeles:20220405T130000
LOCATION:Online
END:VEVENT
BEGIN:VTIMEZONE
TZID:America/Los_Angeles
BEGIN:DAYLIGHT
DTSTART:20260401T000000
TZNAME:PDT
TZOFFSETTO:-0700
TZOFFSETFROM:-0700
END:DAYLIGHT
END:VTIMEZONE
END:VCALENDAR
