BEGIN:VCALENDAR
PRODID:-//eluceo/ical//2.0/EN
VERSION:2.0
CALSCALE:GREGORIAN
BEGIN:VEVENT
UID:3c586fa2eee751e23ff7f3c82e874e86
DTSTAMP:20260425T135749Z
SUMMARY:Macroscene (1/3)
DESCRIPTION:taught by Sarah Claspell\nat Online
DTSTART;TZID=America/Los_Angeles:20220322T110000
DTEND;TZID=America/Los_Angeles:20220322T130000
LOCATION:Online
END:VEVENT
BEGIN:VEVENT
UID:68e811f774558ed27c42e4a57074774e
DTSTAMP:20260425T135749Z
SUMMARY:Macroscene (2/3)
DESCRIPTION:taught by Sarah Claspell\nat Online
DTSTART;TZID=America/Los_Angeles:20220329T110000
DTEND;TZID=America/Los_Angeles:20220329T130000
LOCATION:Online
END:VEVENT
BEGIN:VEVENT
UID:3a9c6ed89489ff26f05a7618d0e0ac26
DTSTAMP:20260425T135749Z
SUMMARY:Macroscene (3/3)
DESCRIPTION:taught by Sarah Claspell\nat Online
DTSTART;TZID=America/Los_Angeles:20220405T110000
DTEND;TZID=America/Los_Angeles:20220405T130000
LOCATION:Online
END:VEVENT
BEGIN:VTIMEZONE
TZID:America/Los_Angeles
BEGIN:DAYLIGHT
DTSTART:20260401T000000
TZNAME:PDT
TZOFFSETTO:-0700
TZOFFSETFROM:-0700
END:DAYLIGHT
END:VTIMEZONE
END:VCALENDAR
