BEGIN:VCALENDAR
PRODID:-//eluceo/ical//2.0/EN
VERSION:2.0
CALSCALE:GREGORIAN
BEGIN:VEVENT
UID:7086178e9a93e969400facf39d589847
DTSTAMP:20260425T135643Z
SUMMARY:Advanced Monoscene (1/6)
DESCRIPTION:taught by Michelle Gilliam\nat Online
DTSTART;TZID=America/Los_Angeles:20220315T170000
DTEND;TZID=America/Los_Angeles:20220315T190000
LOCATION:Online
END:VEVENT
BEGIN:VEVENT
UID:bb22bbab1b4e2f9b8638970cc2ab5bf9
DTSTAMP:20260425T135643Z
SUMMARY:Advanced Monoscene (2/6)
DESCRIPTION:taught by Michelle Gilliam\nat Online
DTSTART;TZID=America/Los_Angeles:20220322T170000
DTEND;TZID=America/Los_Angeles:20220322T190000
LOCATION:Online
END:VEVENT
BEGIN:VEVENT
UID:49eefe083c987073a564468a5ffb26e5
DTSTAMP:20260425T135643Z
SUMMARY:Advanced Monoscene (3/6)
DESCRIPTION:taught by Michelle Gilliam\nat Online
DTSTART;TZID=America/Los_Angeles:20220329T170000
DTEND;TZID=America/Los_Angeles:20220329T190000
LOCATION:Online
END:VEVENT
BEGIN:VEVENT
UID:d8a5e96dcbac6ba553eb289cc9d05234
DTSTAMP:20260425T135643Z
SUMMARY:Advanced Monoscene (4/6)
DESCRIPTION:taught by Michelle Gilliam\nat Online
DTSTART;TZID=America/Los_Angeles:20220405T170000
DTEND;TZID=America/Los_Angeles:20220405T190000
LOCATION:Online
END:VEVENT
BEGIN:VEVENT
UID:ff2ff79dc656b65c746e3be5592390d8
DTSTAMP:20260425T135643Z
SUMMARY:Advanced Monoscene (5/6)
DESCRIPTION:taught by Michelle Gilliam\nat Online
DTSTART;TZID=America/Los_Angeles:20220412T170000
DTEND;TZID=America/Los_Angeles:20220412T190000
LOCATION:Online
END:VEVENT
BEGIN:VEVENT
UID:7c5b63915e2a88f0f762a4e362a220bf
DTSTAMP:20260425T135643Z
SUMMARY:Advanced Monoscene (6/6)
DESCRIPTION:taught by Michelle Gilliam\nat Online
DTSTART;TZID=America/Los_Angeles:20220419T170000
DTEND;TZID=America/Los_Angeles:20220419T180000
LOCATION:Online
END:VEVENT
BEGIN:VTIMEZONE
TZID:America/Los_Angeles
BEGIN:DAYLIGHT
DTSTART:20260401T000000
TZNAME:PDT
TZOFFSETTO:-0700
TZOFFSETFROM:-0700
END:DAYLIGHT
END:VTIMEZONE
END:VCALENDAR
