BEGIN:VCALENDAR
PRODID:-//eluceo/ical//2.0/EN
VERSION:2.0
CALSCALE:GREGORIAN
BEGIN:VEVENT
UID:13f17fc7cfb9c5d291a37259dce65113
DTSTAMP:20260423T073748Z
SUMMARY:Do It Now (1/4)
DESCRIPTION:taught by Alex Berg\nat Online
DTSTART;TZID=America/Los_Angeles:20220302T110000
DTEND;TZID=America/Los_Angeles:20220302T130000
LOCATION:Online
END:VEVENT
BEGIN:VEVENT
UID:34f4a7a7296b26494bcbe5080a93d1c3
DTSTAMP:20260423T073748Z
SUMMARY:Do It Now (2/4)
DESCRIPTION:taught by Alex Berg\nat Online
DTSTART;TZID=America/Los_Angeles:20220309T110000
DTEND;TZID=America/Los_Angeles:20220309T130000
LOCATION:Online
END:VEVENT
BEGIN:VEVENT
UID:04f0490f1104387d018a64167b91c914
DTSTAMP:20260423T073748Z
SUMMARY:Do It Now (3/4)
DESCRIPTION:taught by Alex Berg\nat Online
DTSTART;TZID=America/Los_Angeles:20220316T110000
DTEND;TZID=America/Los_Angeles:20220316T130000
LOCATION:Online
END:VEVENT
BEGIN:VEVENT
UID:6565b4db062b1a2a42060d23b95c6ea8
DTSTAMP:20260423T073748Z
SUMMARY:Do It Now (4/4)
DESCRIPTION:taught by Alex Berg\nat Online
DTSTART;TZID=America/Los_Angeles:20220323T110000
DTEND;TZID=America/Los_Angeles:20220323T130000
LOCATION:Online
END:VEVENT
BEGIN:VTIMEZONE
TZID:America/Los_Angeles
BEGIN:DAYLIGHT
DTSTART:20260401T000000
TZNAME:PDT
TZOFFSETTO:-0700
TZOFFSETFROM:-0700
END:DAYLIGHT
END:VTIMEZONE
END:VCALENDAR
