BEGIN:VCALENDAR
PRODID:-//eluceo/ical//2.0/EN
VERSION:2.0
CALSCALE:GREGORIAN
BEGIN:VEVENT
UID:b197b93ff201d4aa98b495580a8084a0
DTSTAMP:20260425T135643Z
SUMMARY:The Documentary (1/6)
DESCRIPTION:taught by Sarah Claspell\nat Online
DTSTART;TZID=America/Los_Angeles:20220316T170000
DTEND;TZID=America/Los_Angeles:20220316T190000
LOCATION:Online
END:VEVENT
BEGIN:VEVENT
UID:bf2abd84b7297e0d7a0d4c6d3a98a68e
DTSTAMP:20260425T135643Z
SUMMARY:The Documentary (2/6)
DESCRIPTION:taught by Sarah Claspell\nat Online
DTSTART;TZID=America/Los_Angeles:20220323T170000
DTEND;TZID=America/Los_Angeles:20220323T190000
LOCATION:Online
END:VEVENT
BEGIN:VEVENT
UID:e24b0acc9d881f84f2f953f2b24fe9b8
DTSTAMP:20260425T135643Z
SUMMARY:The Documentary (3/6)
DESCRIPTION:taught by Sarah Claspell\nat Online
DTSTART;TZID=America/Los_Angeles:20220330T170000
DTEND;TZID=America/Los_Angeles:20220330T190000
LOCATION:Online
END:VEVENT
BEGIN:VEVENT
UID:9c1801182af7d5d58d8c4b29f5f1b0c5
DTSTAMP:20260425T135643Z
SUMMARY:The Documentary (4/6)
DESCRIPTION:taught by Sarah Claspell\nat Online
DTSTART;TZID=America/Los_Angeles:20220406T170000
DTEND;TZID=America/Los_Angeles:20220406T190000
LOCATION:Online
END:VEVENT
BEGIN:VEVENT
UID:69f9036e240b1f8749af6768d33645ae
DTSTAMP:20260425T135643Z
SUMMARY:The Documentary (5/6)
DESCRIPTION:taught by Sarah Claspell\nat Online
DTSTART;TZID=America/Los_Angeles:20220413T170000
DTEND;TZID=America/Los_Angeles:20220413T190000
LOCATION:Online
END:VEVENT
BEGIN:VEVENT
UID:5808a4281686434b39f10fea1dea6773
DTSTAMP:20260425T135643Z
SUMMARY:The Documentary (6/6)
DESCRIPTION:taught by Sarah Claspell\nat Online
DTSTART;TZID=America/Los_Angeles:20220420T170000
DTEND;TZID=America/Los_Angeles:20220420T180000
LOCATION:Online
END:VEVENT
BEGIN:VTIMEZONE
TZID:America/Los_Angeles
BEGIN:DAYLIGHT
DTSTART:20260401T000000
TZNAME:PDT
TZOFFSETTO:-0700
TZOFFSETFROM:-0700
END:DAYLIGHT
END:VTIMEZONE
END:VCALENDAR
