BEGIN:VCALENDAR
PRODID:-//eluceo/ical//2.0/EN
VERSION:2.0
CALSCALE:GREGORIAN
BEGIN:VEVENT
UID:0c08e6ce6c97ffc689dfc1f5e53f5ee8
DTSTAMP:20260425T135959Z
SUMMARY:Deconstruction (1/6)
DESCRIPTION:taught by Alex Berg\nat Online
DTSTART;TZID=America/Los_Angeles:20220309T170000
DTEND;TZID=America/Los_Angeles:20220309T190000
LOCATION:Online
END:VEVENT
BEGIN:VEVENT
UID:97afef34c811270d30a6f3c1502e567a
DTSTAMP:20260425T135959Z
SUMMARY:Deconstruction (2/6)
DESCRIPTION:taught by Alex Berg\nat Online
DTSTART;TZID=America/Los_Angeles:20220316T170000
DTEND;TZID=America/Los_Angeles:20220316T190000
LOCATION:Online
END:VEVENT
BEGIN:VEVENT
UID:37014db09f23d0ae4276d5f09890bb41
DTSTAMP:20260425T135959Z
SUMMARY:Deconstruction (3/6)
DESCRIPTION:taught by Alex Berg\nat Online
DTSTART;TZID=America/Los_Angeles:20220323T170000
DTEND;TZID=America/Los_Angeles:20220323T190000
LOCATION:Online
END:VEVENT
BEGIN:VEVENT
UID:8c8404a4f98fd35096c9987fda52e90f
DTSTAMP:20260425T135959Z
SUMMARY:Deconstruction (4/6)
DESCRIPTION:taught by Alex Berg\nat Online
DTSTART;TZID=America/Los_Angeles:20220330T170000
DTEND;TZID=America/Los_Angeles:20220330T190000
LOCATION:Online
END:VEVENT
BEGIN:VEVENT
UID:15ffc4973436c59203d3ea9f19f72031
DTSTAMP:20260425T135959Z
SUMMARY:Deconstruction (5/6)
DESCRIPTION:taught by Alex Berg\nat Online
DTSTART;TZID=America/Los_Angeles:20220406T170000
DTEND;TZID=America/Los_Angeles:20220406T190000
LOCATION:Online
END:VEVENT
BEGIN:VEVENT
UID:31447f56f246c82defa58a1e84c5348c
DTSTAMP:20260425T135959Z
SUMMARY:Deconstruction (6/6)
DESCRIPTION:taught by Alex Berg\nat Online
DTSTART;TZID=America/Los_Angeles:20220413T170000
DTEND;TZID=America/Los_Angeles:20220413T190000
LOCATION:Online
END:VEVENT
BEGIN:VTIMEZONE
TZID:America/Los_Angeles
BEGIN:DAYLIGHT
DTSTART:20260401T000000
TZNAME:PDT
TZOFFSETTO:-0700
TZOFFSETFROM:-0700
END:DAYLIGHT
END:VTIMEZONE
END:VCALENDAR
