BEGIN:VCALENDAR
PRODID:-//eluceo/ical//2.0/EN
VERSION:2.0
CALSCALE:GREGORIAN
BEGIN:VEVENT
UID:6a9ca7ca590d261152183329558aa3bd
DTSTAMP:20260423T073629Z
SUMMARY:Big Share: Fun Show (1/4)
DESCRIPTION:taught by Shannon O'Neill\nat Online
DTSTART;TZID=America/Los_Angeles:20220303T150000
DTEND;TZID=America/Los_Angeles:20220303T170000
LOCATION:Online
END:VEVENT
BEGIN:VEVENT
UID:9dcc07f15890c5087974db1a3f600b59
DTSTAMP:20260423T073629Z
SUMMARY:Big Share: Fun Show (2/4)
DESCRIPTION:taught by Shannon O'Neill\nat Online
DTSTART;TZID=America/Los_Angeles:20220310T150000
DTEND;TZID=America/Los_Angeles:20220310T170000
LOCATION:Online
END:VEVENT
BEGIN:VEVENT
UID:218738fdb153916b3e8525966ddea46c
DTSTAMP:20260423T073629Z
SUMMARY:Big Share: Fun Show (3/4)
DESCRIPTION:taught by Shannon O'Neill\nat Online
DTSTART;TZID=America/Los_Angeles:20220317T150000
DTEND;TZID=America/Los_Angeles:20220317T170000
LOCATION:Online
END:VEVENT
BEGIN:VEVENT
UID:30fa865fa10fa87db355dd05258b0b1f
DTSTAMP:20260423T073629Z
SUMMARY:Big Share: Fun Show (4/4)
DESCRIPTION:taught by Shannon O'Neill\nat Online
DTSTART;TZID=America/Los_Angeles:20220324T150000
DTEND;TZID=America/Los_Angeles:20220324T170000
LOCATION:Online
END:VEVENT
BEGIN:VTIMEZONE
TZID:America/Los_Angeles
BEGIN:DAYLIGHT
DTSTART:20260401T000000
TZNAME:PDT
TZOFFSETTO:-0700
TZOFFSETFROM:-0700
END:DAYLIGHT
END:VTIMEZONE
END:VCALENDAR
