BEGIN:VCALENDAR
PRODID:-//eluceo/ical//2.0/EN
VERSION:2.0
CALSCALE:GREGORIAN
BEGIN:VEVENT
UID:cc3f4f8cc91639b3551818f1662d6d7c
DTSTAMP:20260425T135552Z
SUMMARY:Premise Initiations (In Person) (1/4)
DESCRIPTION:taught by Will Hines\nat Clubhouse Upstairs
DTSTART;TZID=America/Los_Angeles:20220313T120000
DTEND;TZID=America/Los_Angeles:20220313T143000
LOCATION:Clubhouse Upstairs
END:VEVENT
BEGIN:VEVENT
UID:1797e27078d2084325b7c7f6aa51ed4b
DTSTAMP:20260425T135552Z
SUMMARY:Premise Initiations (In Person) (2/4)
DESCRIPTION:taught by Will Hines\nat Clubhouse Upstairs
DTSTART;TZID=America/Los_Angeles:20220320T120000
DTEND;TZID=America/Los_Angeles:20220320T143000
LOCATION:Clubhouse Upstairs
END:VEVENT
BEGIN:VEVENT
UID:65943677d4015d25deaa0075da67a4a2
DTSTAMP:20260425T135552Z
SUMMARY:Premise Initiations (In Person) (3/4)
DESCRIPTION:taught by Will Hines\nat Clubhouse Upstairs
DTSTART;TZID=America/Los_Angeles:20220327T120000
DTEND;TZID=America/Los_Angeles:20220327T143000
LOCATION:Clubhouse Upstairs
END:VEVENT
BEGIN:VEVENT
UID:eaca9dbca61d8d45a492b484fa31ae5c
DTSTAMP:20260425T135552Z
SUMMARY:Premise Initiations (In Person) (4/4)
DESCRIPTION:taught by Will Hines\nat Clubhouse Upstairs
DTSTART;TZID=America/Los_Angeles:20220403T120000
DTEND;TZID=America/Los_Angeles:20220403T143000
LOCATION:Clubhouse Upstairs
END:VEVENT
BEGIN:VTIMEZONE
TZID:America/Los_Angeles
BEGIN:DAYLIGHT
DTSTART:20260401T000000
TZNAME:PDT
TZOFFSETTO:-0700
TZOFFSETFROM:-0700
END:DAYLIGHT
END:VTIMEZONE
END:VCALENDAR
