BEGIN:VCALENDAR
PRODID:-//eluceo/ical//2.0/EN
VERSION:2.0
CALSCALE:GREGORIAN
BEGIN:VEVENT
UID:a34ff90b850ea613a02d24aa9f1ed74d
DTSTAMP:20260425T135552Z
SUMMARY:2-Person Scenes - Evening (1/1)
DESCRIPTION:taught by Alex Berg\nat Online
DTSTART;TZID=America/Los_Angeles:20220407T170000
DTEND;TZID=America/Los_Angeles:20220407T190000
LOCATION:Online
END:VEVENT
BEGIN:VTIMEZONE
TZID:America/Los_Angeles
BEGIN:DAYLIGHT
DTSTART:20260401T000000
TZNAME:PDT
TZOFFSETTO:-0700
TZOFFSETFROM:-0700
END:DAYLIGHT
END:VTIMEZONE
END:VCALENDAR
