BEGIN:VCALENDAR
PRODID:-//eluceo/ical//2.0/EN
VERSION:2.0
CALSCALE:GREGORIAN
BEGIN:VEVENT
UID:ac005d4948c670491f0722118e8c2be4
DTSTAMP:20260425T122251Z
SUMMARY:Organic Scenework Boot Camp (In Perso... (1/4)
DESCRIPTION:taught by Will Hines\nat Clubhouse Upstairs
DTSTART;TZID=America/Los_Angeles:20220410T120000
DTEND;TZID=America/Los_Angeles:20220410T143000
LOCATION:Clubhouse Upstairs
END:VEVENT
BEGIN:VEVENT
UID:f332b0a642ca7c9166e981170d2d0a12
DTSTAMP:20260425T122251Z
SUMMARY:Organic Scenework Boot Camp (In Perso... (2/4)
DESCRIPTION:taught by Will Hines\nat Clubhouse Upstairs
DTSTART;TZID=America/Los_Angeles:20220417T120000
DTEND;TZID=America/Los_Angeles:20220417T143000
LOCATION:Clubhouse Upstairs
END:VEVENT
BEGIN:VEVENT
UID:1ef6c9df8345215c8fd4291545ec66e3
DTSTAMP:20260425T122251Z
SUMMARY:Organic Scenework Boot Camp (In Perso... (3/4)
DESCRIPTION:taught by Will Hines\nat Clubhouse Upstairs
DTSTART;TZID=America/Los_Angeles:20220424T120000
DTEND;TZID=America/Los_Angeles:20220424T143000
LOCATION:Clubhouse Upstairs
END:VEVENT
BEGIN:VEVENT
UID:a3432ef5c3b21f2adc324511b659dabf
DTSTAMP:20260425T122251Z
SUMMARY:Organic Scenework Boot Camp (In Perso... (4/4)
DESCRIPTION:taught by Will Hines\nat Clubhouse Upstairs
DTSTART;TZID=America/Los_Angeles:20220501T120000
DTEND;TZID=America/Los_Angeles:20220501T143000
LOCATION:Clubhouse Upstairs
END:VEVENT
BEGIN:VTIMEZONE
TZID:America/Los_Angeles
BEGIN:DAYLIGHT
DTSTART:20260401T000000
TZNAME:PDT
TZOFFSETTO:-0700
TZOFFSETFROM:-0700
END:DAYLIGHT
END:VTIMEZONE
END:VCALENDAR
