BEGIN:VCALENDAR
PRODID:-//eluceo/ical//2.0/EN
VERSION:2.0
CALSCALE:GREGORIAN
BEGIN:VEVENT
UID:b3cfd476816f79b7e4fcb7b8f5b0795c
DTSTAMP:20260425T122251Z
SUMMARY:Build Your Confidence (1/4)
DESCRIPTION:taught by Michelle Gilliam\nat Online
DTSTART;TZID=America/Los_Angeles:20220420T170000
DTEND;TZID=America/Los_Angeles:20220420T190000
LOCATION:Online
END:VEVENT
BEGIN:VEVENT
UID:2c02b6a434453d86101ba763dd1c4c6a
DTSTAMP:20260425T122251Z
SUMMARY:Build Your Confidence (2/4)
DESCRIPTION:taught by Michelle Gilliam\nat Online
DTSTART;TZID=America/Los_Angeles:20220427T170000
DTEND;TZID=America/Los_Angeles:20220427T190000
LOCATION:Online
END:VEVENT
BEGIN:VEVENT
UID:4972a562d42937a5921bea5a6e337dbc
DTSTAMP:20260425T122251Z
SUMMARY:Build Your Confidence (3/4)
DESCRIPTION:taught by Michelle Gilliam\nat Online
DTSTART;TZID=America/Los_Angeles:20220511T170000
DTEND;TZID=America/Los_Angeles:20220511T190000
LOCATION:Online
END:VEVENT
BEGIN:VEVENT
UID:6efd8779112760b268ccc161112eaf18
DTSTAMP:20260425T122251Z
SUMMARY:Build Your Confidence (4/4)
DESCRIPTION:taught by Michelle Gilliam\nat Online
DTSTART;TZID=America/Los_Angeles:20220518T170000
DTEND;TZID=America/Los_Angeles:20220518T190000
LOCATION:Online
END:VEVENT
BEGIN:VTIMEZONE
TZID:America/Los_Angeles
BEGIN:DAYLIGHT
DTSTART:20260401T000000
TZNAME:PDT
TZOFFSETTO:-0700
TZOFFSETFROM:-0700
END:DAYLIGHT
END:VTIMEZONE
END:VCALENDAR
