BEGIN:VCALENDAR
PRODID:-//eluceo/ical//2.0/EN
VERSION:2.0
CALSCALE:GREGORIAN
BEGIN:VEVENT
UID:dedd1b9c95bfbae7c2a47e40297cb626
DTSTAMP:20260425T110058Z
SUMMARY:The Harold Part 2 (1/5)
DESCRIPTION:taught by Jim Wood$\nat Molly Malones
DTSTART;TZID=America/Los_Angeles:20220501T130000
DTEND;TZID=America/Los_Angeles:20220501T150000
LOCATION:Molly Malones
END:VEVENT
BEGIN:VEVENT
UID:3fbe40cb049ff19cfb6debd2206117d0
DTSTAMP:20260425T110058Z
SUMMARY:The Harold Part 2 (2/5)
DESCRIPTION:taught by Jim Wood$\nat Molly Malones
DTSTART;TZID=America/Los_Angeles:20220508T130000
DTEND;TZID=America/Los_Angeles:20220508T150000
LOCATION:Molly Malones
END:VEVENT
BEGIN:VEVENT
UID:da01cdca1d13679c5bc74d9213b10973
DTSTAMP:20260425T110058Z
SUMMARY:The Harold Part 2 (3/5)
DESCRIPTION:taught by Jim Wood$\nat Molly Malones
DTSTART;TZID=America/Los_Angeles:20220515T130000
DTEND;TZID=America/Los_Angeles:20220515T150000
LOCATION:Molly Malones
END:VEVENT
BEGIN:VEVENT
UID:b9f9b407a5a7073da74c2f417d3d46bb
DTSTAMP:20260425T110058Z
SUMMARY:The Harold Part 2 (4/5)
DESCRIPTION:taught by Jim Wood$\nat Molly Malones
DTSTART;TZID=America/Los_Angeles:20220522T130000
DTEND;TZID=America/Los_Angeles:20220522T150000
LOCATION:Molly Malones
END:VEVENT
BEGIN:VEVENT
UID:b4577087b6b6fe2c5adebd86e6963c0d
DTSTAMP:20260425T110058Z
SUMMARY:The Harold Part 2 (5/5)
DESCRIPTION:taught by Jim Wood$\nat Molly Malones
DTSTART;TZID=America/Los_Angeles:20220605T130000
DTEND;TZID=America/Los_Angeles:20220605T140000
LOCATION:Molly Malones
END:VEVENT
BEGIN:VTIMEZONE
TZID:America/Los_Angeles
BEGIN:DAYLIGHT
DTSTART:20260401T000000
TZNAME:PDT
TZOFFSETTO:-0700
TZOFFSETFROM:-0700
END:DAYLIGHT
END:VTIMEZONE
END:VCALENDAR
