BEGIN:VCALENDAR
PRODID:-//eluceo/ical//2.0/EN
VERSION:2.0
CALSCALE:GREGORIAN
BEGIN:VEVENT
UID:707f280e7cf59799711f92d797312b30
DTSTAMP:20260425T110138Z
SUMMARY:The Documentary (1/6)
DESCRIPTION:taught by Sarah Claspell\nat Online
DTSTART;TZID=America/Los_Angeles:20220517T110000
DTEND;TZID=America/Los_Angeles:20220517T130000
LOCATION:Online
END:VEVENT
BEGIN:VEVENT
UID:8b154595f43f4ac7b7092a45048a1c00
DTSTAMP:20260425T110138Z
SUMMARY:The Documentary (2/6)
DESCRIPTION:taught by Sarah Claspell\nat Online
DTSTART;TZID=America/Los_Angeles:20220524T110000
DTEND;TZID=America/Los_Angeles:20220524T130000
LOCATION:Online
END:VEVENT
BEGIN:VEVENT
UID:e58cf4bc574d6d923289c6fc4833eae4
DTSTAMP:20260425T110138Z
SUMMARY:The Documentary (3/6)
DESCRIPTION:taught by Sarah Claspell\nat Online
DTSTART;TZID=America/Los_Angeles:20220531T110000
DTEND;TZID=America/Los_Angeles:20220531T130000
LOCATION:Online
END:VEVENT
BEGIN:VEVENT
UID:cc62f17a048ac765e3facfd7760c3824
DTSTAMP:20260425T110138Z
SUMMARY:The Documentary (4/6)
DESCRIPTION:taught by Sarah Claspell\nat Online
DTSTART;TZID=America/Los_Angeles:20220607T110000
DTEND;TZID=America/Los_Angeles:20220607T130000
LOCATION:Online
END:VEVENT
BEGIN:VEVENT
UID:b8e505522341805398e6d3f931fb87fe
DTSTAMP:20260425T110138Z
SUMMARY:The Documentary (5/6)
DESCRIPTION:taught by Sarah Claspell\nat Online
DTSTART;TZID=America/Los_Angeles:20220614T110000
DTEND;TZID=America/Los_Angeles:20220614T130000
LOCATION:Online
END:VEVENT
BEGIN:VEVENT
UID:174c39cec2e9504cc147948da900080a
DTSTAMP:20260425T110138Z
SUMMARY:The Documentary (6/6)
DESCRIPTION:taught by Sarah Claspell\nat Online
DTSTART;TZID=America/Los_Angeles:20220621T110000
DTEND;TZID=America/Los_Angeles:20220621T120000
LOCATION:Online
END:VEVENT
BEGIN:VTIMEZONE
TZID:America/Los_Angeles
BEGIN:DAYLIGHT
DTSTART:20260401T000000
TZNAME:PDT
TZOFFSETTO:-0700
TZOFFSETFROM:-0700
END:DAYLIGHT
END:VTIMEZONE
END:VCALENDAR
