BEGIN:VCALENDAR
PRODID:-//eluceo/ical//2.0/EN
VERSION:2.0
CALSCALE:GREGORIAN
BEGIN:VEVENT
UID:c181a843d43f1de4b49e8f0b1e2f33bf
DTSTAMP:20260425T110222Z
SUMMARY:Monoscene Plus (1/6)
DESCRIPTION:taught by Michelle Gilliam\nat Online
DTSTART;TZID=America/Los_Angeles:20220518T110000
DTEND;TZID=America/Los_Angeles:20220518T130000
LOCATION:Online
END:VEVENT
BEGIN:VEVENT
UID:f52293f4c3dd7c9684b6db652d234c00
DTSTAMP:20260425T110222Z
SUMMARY:Monoscene Plus (2/6)
DESCRIPTION:taught by Michelle Gilliam\nat Online
DTSTART;TZID=America/Los_Angeles:20220525T110000
DTEND;TZID=America/Los_Angeles:20220525T130000
LOCATION:Online
END:VEVENT
BEGIN:VEVENT
UID:84c2df2794a21ac116ff5b6e48a3b7eb
DTSTAMP:20260425T110222Z
SUMMARY:Monoscene Plus (3/6)
DESCRIPTION:taught by Michelle Gilliam\nat Online
DTSTART;TZID=America/Los_Angeles:20220601T110000
DTEND;TZID=America/Los_Angeles:20220601T130000
LOCATION:Online
END:VEVENT
BEGIN:VEVENT
UID:7b70615644308bc445d1acd52914f381
DTSTAMP:20260425T110222Z
SUMMARY:Monoscene Plus (4/6)
DESCRIPTION:taught by Michelle Gilliam\nat Online
DTSTART;TZID=America/Los_Angeles:20220608T110000
DTEND;TZID=America/Los_Angeles:20220608T130000
LOCATION:Online
END:VEVENT
BEGIN:VEVENT
UID:afb1bfffca4c7ad8f106ff8321c0fe22
DTSTAMP:20260425T110222Z
SUMMARY:Monoscene Plus (5/6)
DESCRIPTION:taught by Michelle Gilliam\nat Online
DTSTART;TZID=America/Los_Angeles:20220615T110000
DTEND;TZID=America/Los_Angeles:20220615T130000
LOCATION:Online
END:VEVENT
BEGIN:VEVENT
UID:601ee3fb3f07bd1def08d15c1846c74d
DTSTAMP:20260425T110222Z
SUMMARY:Monoscene Plus (6/6)
DESCRIPTION:taught by Michelle Gilliam\nat Online
DTSTART;TZID=America/Los_Angeles:20220622T110000
DTEND;TZID=America/Los_Angeles:20220622T120000
LOCATION:Online
END:VEVENT
BEGIN:VTIMEZONE
TZID:America/Los_Angeles
BEGIN:DAYLIGHT
DTSTART:20260401T000000
TZNAME:PDT
TZOFFSETTO:-0700
TZOFFSETFROM:-0700
END:DAYLIGHT
END:VTIMEZONE
END:VCALENDAR
