BEGIN:VCALENDAR
PRODID:-//eluceo/ical//2.0/EN
VERSION:2.0
CALSCALE:GREGORIAN
BEGIN:VEVENT
UID:3b37eb8e54b926372dcc2b63d211c237
DTSTAMP:20260423T031930Z
SUMMARY:Crash Course (1/6)
DESCRIPTION:taught by Shannon O'Neill\nat Online
DTSTART;TZID=America/Los_Angeles:20220519T150000
DTEND;TZID=America/Los_Angeles:20220519T170000
LOCATION:Online
END:VEVENT
BEGIN:VEVENT
UID:601ed2043cc13d27b623a03f92ec73b6
DTSTAMP:20260423T031930Z
SUMMARY:Crash Course (2/6)
DESCRIPTION:taught by Shannon O'Neill\nat Online
DTSTART;TZID=America/Los_Angeles:20220526T150000
DTEND;TZID=America/Los_Angeles:20220526T170000
LOCATION:Online
END:VEVENT
BEGIN:VEVENT
UID:d3ac56a51aaee90ee713e59b58153533
DTSTAMP:20260423T031930Z
SUMMARY:Crash Course (3/6)
DESCRIPTION:taught by Shannon O'Neill\nat Online
DTSTART;TZID=America/Los_Angeles:20220602T150000
DTEND;TZID=America/Los_Angeles:20220602T170000
LOCATION:Online
END:VEVENT
BEGIN:VEVENT
UID:9be8819d10817342791190f9647c4d07
DTSTAMP:20260423T031930Z
SUMMARY:Crash Course (4/6)
DESCRIPTION:taught by Shannon O'Neill\nat Online
DTSTART;TZID=America/Los_Angeles:20220609T150000
DTEND;TZID=America/Los_Angeles:20220609T170000
LOCATION:Online
END:VEVENT
BEGIN:VEVENT
UID:8183f12f683ec7008afa5bf844ae4341
DTSTAMP:20260423T031930Z
SUMMARY:Crash Course (5/6)
DESCRIPTION:taught by Shannon O'Neill\nat Online
DTSTART;TZID=America/Los_Angeles:20220616T150000
DTEND;TZID=America/Los_Angeles:20220616T170000
LOCATION:Online
END:VEVENT
BEGIN:VEVENT
UID:31c9a41e4858cf5bf0f858d68aa514e1
DTSTAMP:20260423T031930Z
SUMMARY:Crash Course (6/6)
DESCRIPTION:taught by Shannon O'Neill\nat Online
DTSTART;TZID=America/Los_Angeles:20220623T150000
DTEND;TZID=America/Los_Angeles:20220623T170000
LOCATION:Online
END:VEVENT
BEGIN:VTIMEZONE
TZID:America/Los_Angeles
BEGIN:DAYLIGHT
DTSTART:20260401T000000
TZNAME:PDT
TZOFFSETTO:-0700
TZOFFSETFROM:-0700
END:DAYLIGHT
END:VTIMEZONE
END:VCALENDAR
