BEGIN:VCALENDAR
PRODID:-//eluceo/ical//2.0/EN
VERSION:2.0
CALSCALE:GREGORIAN
BEGIN:VEVENT
UID:15f9a8bc4a0ca9f9fe2929fecf1ce574
DTSTAMP:20260425T110057Z
SUMMARY:Sunday Harold (1/7)
DESCRIPTION:taught by Will Hines\nat Clubhouse Upstairs
DTSTART;TZID=America/Los_Angeles:20220612T120000
DTEND;TZID=America/Los_Angeles:20220612T150000
LOCATION:Clubhouse Upstairs
END:VEVENT
BEGIN:VEVENT
UID:0f88194ca3b9f41e5d9b75280e23e999
DTSTAMP:20260425T110057Z
SUMMARY:Sunday Harold (2/7)
DESCRIPTION:taught by Will Hines\nat Clubhouse Upstairs
DTSTART;TZID=America/Los_Angeles:20220619T120000
DTEND;TZID=America/Los_Angeles:20220619T150000
LOCATION:Clubhouse Upstairs
END:VEVENT
BEGIN:VEVENT
UID:d87e985f6703cafcad0d917e997dbf62
DTSTAMP:20260425T110057Z
SUMMARY:Sunday Harold (3/7)
DESCRIPTION:taught by Will Hines\nat Clubhouse Upstairs
DTSTART;TZID=America/Los_Angeles:20220626T120000
DTEND;TZID=America/Los_Angeles:20220626T150000
LOCATION:Clubhouse Upstairs
END:VEVENT
BEGIN:VEVENT
UID:29329b44da31247e161e31f557eda58c
DTSTAMP:20260425T110057Z
SUMMARY:Sunday Harold (4/7)
DESCRIPTION:taught by Will Hines\nat Clubhouse Upstairs
DTSTART;TZID=America/Los_Angeles:20220703T120000
DTEND;TZID=America/Los_Angeles:20220703T150000
LOCATION:Clubhouse Upstairs
END:VEVENT
BEGIN:VEVENT
UID:1cc07d7083ebfb05e2fb80dfec6db54f
DTSTAMP:20260425T110057Z
SUMMARY:Sunday Harold (5/7)
DESCRIPTION:taught by Will Hines\nat Clubhouse Upstairs
DTSTART;TZID=America/Los_Angeles:20220710T120000
DTEND;TZID=America/Los_Angeles:20220710T150000
LOCATION:Clubhouse Upstairs
END:VEVENT
BEGIN:VEVENT
UID:01e0fcd44e9a4c1cb2fbca0e08302ded
DTSTAMP:20260425T110057Z
SUMMARY:Sunday Harold (6/7)
DESCRIPTION:taught by Will Hines\nat Clubhouse Upstairs
DTSTART;TZID=America/Los_Angeles:20220717T120000
DTEND;TZID=America/Los_Angeles:20220717T150000
LOCATION:Clubhouse Upstairs
END:VEVENT
BEGIN:VEVENT
UID:8ef158e961fb4e903138481c4b7e8070
DTSTAMP:20260425T110057Z
SUMMARY:Sunday Harold (7/7)
DESCRIPTION:taught by Will Hines\nat Clubhouse Upstairs
DTSTART;TZID=America/Los_Angeles:20220807T130000
DTEND;TZID=America/Los_Angeles:20220807T143000
LOCATION:Clubhouse Upstairs
END:VEVENT
BEGIN:VTIMEZONE
TZID:America/Los_Angeles
BEGIN:DAYLIGHT
DTSTART:20260401T000000
TZNAME:PDT
TZOFFSETTO:-0700
TZOFFSETFROM:-0700
END:DAYLIGHT
END:VTIMEZONE
END:VCALENDAR
