BEGIN:VCALENDAR
PRODID:-//eluceo/ical//2.0/EN
VERSION:2.0
CALSCALE:GREGORIAN
BEGIN:VEVENT
UID:e84e23ee1438e1a484b0130c5b1e5340
DTSTAMP:20260425T110057Z
SUMMARY:Fear The Walking Bitness - June 2022 (1/1)
DESCRIPTION:taught by Will Hines and Jim Wood$\nat Clubhouse Downstairs
DTSTART;TZID=America/Los_Angeles:20220606T141500
DTEND;TZID=America/Los_Angeles:20220606T161500
LOCATION:Clubhouse Downstairs
END:VEVENT
BEGIN:VTIMEZONE
TZID:America/Los_Angeles
BEGIN:DAYLIGHT
DTSTART:20260401T000000
TZNAME:PDT
TZOFFSETTO:-0700
TZOFFSETFROM:-0700
END:DAYLIGHT
END:VTIMEZONE
END:VCALENDAR
