BEGIN:VCALENDAR
PRODID:-//eluceo/ical//2.0/EN
VERSION:2.0
CALSCALE:GREGORIAN
BEGIN:VEVENT
UID:1e4b0dc32ed8f73ab4cac69ebb5a481e
DTSTAMP:20260425T110103Z
SUMMARY:WGIS Monday Glendale Room Jam (1/3)
DESCRIPTION:taught by Jim Wood$ and Will Hines\nat Glendale Room
DTSTART;TZID=America/Los_Angeles:20220613T193000
DTEND;TZID=America/Los_Angeles:20220613T210000
LOCATION:Glendale Room
END:VEVENT
BEGIN:VEVENT
UID:2536b7affad4fe8c9e55510d3171c81b
DTSTAMP:20260425T110103Z
SUMMARY:WGIS Monday Glendale Room Jam (2/3)
DESCRIPTION:taught by Jim Wood$ and Will Hines\nat Glendale Room
DTSTART;TZID=America/Los_Angeles:20220620T193000
DTEND;TZID=America/Los_Angeles:20220620T210000
LOCATION:Glendale Room
END:VEVENT
BEGIN:VEVENT
UID:944c40e42e84e657d6e19e182bb14d6d
DTSTAMP:20260425T110103Z
SUMMARY:WGIS Monday Glendale Room Jam (3/3)
DESCRIPTION:taught by Jim Wood$ and Will Hines\nat Glendale Room
DTSTART;TZID=America/Los_Angeles:20220627T193000
DTEND;TZID=America/Los_Angeles:20220627T210000
LOCATION:Glendale Room
END:VEVENT
BEGIN:VTIMEZONE
TZID:America/Los_Angeles
BEGIN:DAYLIGHT
DTSTART:20260401T000000
TZNAME:PDT
TZOFFSETTO:-0700
TZOFFSETFROM:-0700
END:DAYLIGHT
END:VTIMEZONE
END:VCALENDAR
