BEGIN:VCALENDAR
PRODID:-//eluceo/ical//2.0/EN
VERSION:2.0
CALSCALE:GREGORIAN
BEGIN:VEVENT
UID:2a12b5279e81ba6d748a94d1cec91ef4
DTSTAMP:20260424T112934Z
SUMMARY:Say Yes and Say Why (1/4)
DESCRIPTION:taught by Ronnie Adrian\nat Online
DTSTART;TZID=America/Los_Angeles:20220817T170000
DTEND;TZID=America/Los_Angeles:20220817T190000
LOCATION:Online
END:VEVENT
BEGIN:VEVENT
UID:0b16e6a574df33e6e3208feac7d9e2da
DTSTAMP:20260424T112934Z
SUMMARY:Say Yes and Say Why (2/4)
DESCRIPTION:taught by Ronnie Adrian\nat Online
DTSTART;TZID=America/Los_Angeles:20220824T170000
DTEND;TZID=America/Los_Angeles:20220824T190000
LOCATION:Online
END:VEVENT
BEGIN:VEVENT
UID:ed21f6de0b27def0155c98eb1ac5dea6
DTSTAMP:20260424T112934Z
SUMMARY:Say Yes and Say Why (3/4)
DESCRIPTION:taught by Ronnie Adrian\nat Online
DTSTART;TZID=America/Los_Angeles:20220831T170000
DTEND;TZID=America/Los_Angeles:20220831T190000
LOCATION:Online
END:VEVENT
BEGIN:VEVENT
UID:5b11ef875df0625d0a40b024ec831a8e
DTSTAMP:20260424T112934Z
SUMMARY:Say Yes and Say Why (4/4)
DESCRIPTION:taught by Ronnie Adrian\nat Online
DTSTART;TZID=America/Los_Angeles:20220907T170000
DTEND;TZID=America/Los_Angeles:20220907T190000
LOCATION:Online
END:VEVENT
BEGIN:VTIMEZONE
TZID:America/Los_Angeles
BEGIN:DAYLIGHT
DTSTART:20260401T000000
TZNAME:PDT
TZOFFSETTO:-0700
TZOFFSETFROM:-0700
END:DAYLIGHT
END:VTIMEZONE
END:VCALENDAR
