BEGIN:VCALENDAR
PRODID:-//eluceo/ical//2.0/EN
VERSION:2.0
CALSCALE:GREGORIAN
BEGIN:VEVENT
UID:5cc16add678d1d82c79f2f91818f5cc9
DTSTAMP:20260424T113121Z
SUMMARY:Crash Course (1/6)
DESCRIPTION:taught by Shannon O'Neill\nat Online
DTSTART;TZID=America/Los_Angeles:20220815T120000
DTEND;TZID=America/Los_Angeles:20220815T140000
LOCATION:Online
END:VEVENT
BEGIN:VEVENT
UID:e1b249bd0ec747eabd6a550c7276b1fd
DTSTAMP:20260424T113121Z
SUMMARY:Crash Course (2/6)
DESCRIPTION:taught by Shannon O'Neill\nat Online
DTSTART;TZID=America/Los_Angeles:20220822T120000
DTEND;TZID=America/Los_Angeles:20220822T140000
LOCATION:Online
END:VEVENT
BEGIN:VEVENT
UID:285a053bbdbbb29d77ddf5b3a4a3cc47
DTSTAMP:20260424T113121Z
SUMMARY:Crash Course (3/6)
DESCRIPTION:taught by Shannon O'Neill\nat Online
DTSTART;TZID=America/Los_Angeles:20220829T120000
DTEND;TZID=America/Los_Angeles:20220829T140000
LOCATION:Online
END:VEVENT
BEGIN:VEVENT
UID:6aec7f044b127c0e15b966f5fc1056df
DTSTAMP:20260424T113121Z
SUMMARY:Crash Course (4/6)
DESCRIPTION:taught by Shannon O'Neill\nat Online
DTSTART;TZID=America/Los_Angeles:20220912T120000
DTEND;TZID=America/Los_Angeles:20220912T140000
LOCATION:Online
END:VEVENT
BEGIN:VEVENT
UID:76f1d6eacf41d6d1c031b37accb45636
DTSTAMP:20260424T113121Z
SUMMARY:Crash Course (5/6)
DESCRIPTION:taught by Shannon O'Neill\nat Online
DTSTART;TZID=America/Los_Angeles:20220919T120000
DTEND;TZID=America/Los_Angeles:20220919T140000
LOCATION:Online
END:VEVENT
BEGIN:VEVENT
UID:0b6a6a175ad33731e3f9d0c8c813f427
DTSTAMP:20260424T113121Z
SUMMARY:Crash Course (6/6)
DESCRIPTION:taught by Shannon O'Neill\nat Online
DTSTART;TZID=America/Los_Angeles:20220926T120000
DTEND;TZID=America/Los_Angeles:20220926T140000
LOCATION:Online
END:VEVENT
BEGIN:VTIMEZONE
TZID:America/Los_Angeles
BEGIN:DAYLIGHT
DTSTART:20260401T000000
TZNAME:PDT
TZOFFSETTO:-0700
TZOFFSETFROM:-0700
END:DAYLIGHT
END:VTIMEZONE
END:VCALENDAR
