BEGIN:VCALENDAR
PRODID:-//eluceo/ical//2.0/EN
VERSION:2.0
CALSCALE:GREGORIAN
BEGIN:VEVENT
UID:ba130a63cce9892e3fbf055c14ae9dd1
DTSTAMP:20260422T172830Z
SUMMARY:Level 3: Harold Structure (1/8)
DESCRIPTION:taught by Will Hines\nat Clubhouse Upstairs
DTSTART;TZID=America/Los_Angeles:20221023T120000
DTEND;TZID=America/Los_Angeles:20221023T143000
LOCATION:Clubhouse Upstairs
END:VEVENT
BEGIN:VEVENT
UID:fef09dae2aff9e065d6393b618c5cf40
DTSTAMP:20260422T172830Z
SUMMARY:Level 3: Harold Structure (2/8)
DESCRIPTION:taught by Will Hines\nat Clubhouse Upstairs
DTSTART;TZID=America/Los_Angeles:20221030T120000
DTEND;TZID=America/Los_Angeles:20221030T143000
LOCATION:Clubhouse Upstairs
END:VEVENT
BEGIN:VEVENT
UID:a5dee90d4531e21182b1ea1868e4f8ba
DTSTAMP:20260422T172830Z
SUMMARY:Level 3: Harold Structure (3/8)
DESCRIPTION:taught by Will Hines\nat Clubhouse Upstairs
DTSTART;TZID=America/Los_Angeles:20221106T120000
DTEND;TZID=America/Los_Angeles:20221106T143000
LOCATION:Clubhouse Upstairs
END:VEVENT
BEGIN:VEVENT
UID:fd304b0117f354252434468097698d67
DTSTAMP:20260422T172830Z
SUMMARY:Level 3: Harold Structure (4/8)
DESCRIPTION:taught by Will Hines\nat Clubhouse Upstairs
DTSTART;TZID=America/Los_Angeles:20221113T120000
DTEND;TZID=America/Los_Angeles:20221113T143000
LOCATION:Clubhouse Upstairs
END:VEVENT
BEGIN:VEVENT
UID:4407f9ac75aebe807949f968de2657c8
DTSTAMP:20260422T172830Z
SUMMARY:Level 3: Harold Structure (5/8)
DESCRIPTION:taught by Will Hines\nat Clubhouse Upstairs
DTSTART;TZID=America/Los_Angeles:20221120T120000
DTEND;TZID=America/Los_Angeles:20221120T143000
LOCATION:Clubhouse Upstairs
END:VEVENT
BEGIN:VEVENT
UID:1f67b7dd0e5665097ff8d7714f592686
DTSTAMP:20260422T172830Z
SUMMARY:Level 3: Harold Structure (6/8)
DESCRIPTION:taught by Will Hines\nat Clubhouse Upstairs
DTSTART;TZID=America/Los_Angeles:20221204T120000
DTEND;TZID=America/Los_Angeles:20221204T143000
LOCATION:Clubhouse Upstairs
END:VEVENT
BEGIN:VEVENT
UID:3ae3ce80e0d3ffc3c61e6c6c16d65ed6
DTSTAMP:20260422T172830Z
SUMMARY:Level 3: Harold Structure (7/8)
DESCRIPTION:taught by Will Hines\nat Clubhouse Upstairs
DTSTART;TZID=America/Los_Angeles:20221211T120000
DTEND;TZID=America/Los_Angeles:20221211T143000
LOCATION:Clubhouse Upstairs
END:VEVENT
BEGIN:VEVENT
UID:2a120e6d3181d531b03671b8441794b0
DTSTAMP:20260422T172830Z
SUMMARY:Level 3: Harold Structure (8/8)
DESCRIPTION:taught by Will Hines\nat Clubhouse Upstairs
DTSTART;TZID=America/Los_Angeles:20221218T120000
DTEND;TZID=America/Los_Angeles:20221218T143000
LOCATION:Clubhouse Upstairs
END:VEVENT
BEGIN:VTIMEZONE
TZID:America/Los_Angeles
BEGIN:DAYLIGHT
DTSTART:20260401T000000
TZNAME:PDT
TZOFFSETTO:-0700
TZOFFSETFROM:-0700
END:DAYLIGHT
END:VTIMEZONE
END:VCALENDAR
