BEGIN:VCALENDAR
PRODID:-//eluceo/ical//2.0/EN
VERSION:2.0
CALSCALE:GREGORIAN
BEGIN:VEVENT
UID:028d2b52720f998ad99b3e1fd83702a9
DTSTAMP:20260422T140701Z
SUMMARY:Level 4: Harold (1/6)
DESCRIPTION:taught by Will Hines\nat Online
DTSTART;TZID=America/Los_Angeles:20230223T170000
DTEND;TZID=America/Los_Angeles:20230223T190000
LOCATION:Online
END:VEVENT
BEGIN:VEVENT
UID:dc7eb18b200cc2cc04f36891930f8e0e
DTSTAMP:20260422T140701Z
SUMMARY:Level 4: Harold (2/6)
DESCRIPTION:taught by Will Hines\nat Online
DTSTART;TZID=America/Los_Angeles:20230302T170000
DTEND;TZID=America/Los_Angeles:20230302T190000
LOCATION:Online
END:VEVENT
BEGIN:VEVENT
UID:f167b2b85b8274ec548e07c96c4381e1
DTSTAMP:20260422T140701Z
SUMMARY:Level 4: Harold (3/6)
DESCRIPTION:taught by Will Hines\nat Online
DTSTART;TZID=America/Los_Angeles:20230309T170000
DTEND;TZID=America/Los_Angeles:20230309T190000
LOCATION:Online
END:VEVENT
BEGIN:VEVENT
UID:4a99101a01e540f46306887ebd87063c
DTSTAMP:20260422T140701Z
SUMMARY:Level 4: Harold (4/6)
DESCRIPTION:taught by Will Hines\nat Online
DTSTART;TZID=America/Los_Angeles:20230316T170000
DTEND;TZID=America/Los_Angeles:20230316T190000
LOCATION:Online
END:VEVENT
BEGIN:VEVENT
UID:e191df05f63039dd7c255f358be2084a
DTSTAMP:20260422T140701Z
SUMMARY:Level 4: Harold (5/6)
DESCRIPTION:taught by Will Hines\nat Online
DTSTART;TZID=America/Los_Angeles:20230323T170000
DTEND;TZID=America/Los_Angeles:20230323T190000
LOCATION:Online
END:VEVENT
BEGIN:VEVENT
UID:a08e6ac5d3a5194fa71866b428e4e4ed
DTSTAMP:20260422T140701Z
SUMMARY:Level 4: Harold (6/6)
DESCRIPTION:taught by Will Hines\nat Online
DTSTART;TZID=America/Los_Angeles:20230330T170000
DTEND;TZID=America/Los_Angeles:20230330T190000
LOCATION:Online
END:VEVENT
BEGIN:VTIMEZONE
TZID:America/Los_Angeles
BEGIN:DAYLIGHT
DTSTART:20260401T000000
TZNAME:PDT
TZOFFSETTO:-0700
TZOFFSETFROM:-0700
END:DAYLIGHT
END:VTIMEZONE
END:VCALENDAR
