BEGIN:VCALENDAR
PRODID:-//eluceo/ical//2.0/EN
VERSION:2.0
CALSCALE:GREGORIAN
BEGIN:VEVENT
UID:af1ccfa82302dbc34b576bd1a21973a0
DTSTAMP:20260422T204750Z
SUMMARY:Level 3: Second Beats (1/6)
DESCRIPTION:taught by Will Hines\nat Online
DTSTART;TZID=America/Los_Angeles:20230221T110000
DTEND;TZID=America/Los_Angeles:20230221T130000
LOCATION:Online
END:VEVENT
BEGIN:VEVENT
UID:4b3fa79708aa9500f7620dd02f6cd35b
DTSTAMP:20260422T204750Z
SUMMARY:Level 3: Second Beats (2/6)
DESCRIPTION:taught by Will Hines\nat Online
DTSTART;TZID=America/Los_Angeles:20230228T110000
DTEND;TZID=America/Los_Angeles:20230228T130000
LOCATION:Online
END:VEVENT
BEGIN:VEVENT
UID:aaac874baeb9728a17c9f81153cef4ce
DTSTAMP:20260422T204750Z
SUMMARY:Level 3: Second Beats (3/6)
DESCRIPTION:taught by Will Hines\nat Online
DTSTART;TZID=America/Los_Angeles:20230307T110000
DTEND;TZID=America/Los_Angeles:20230307T130000
LOCATION:Online
END:VEVENT
BEGIN:VEVENT
UID:beea2aaef6b8c864d901c1a18441838b
DTSTAMP:20260422T204750Z
SUMMARY:Level 3: Second Beats (4/6)
DESCRIPTION:taught by Will Hines\nat Online
DTSTART;TZID=America/Los_Angeles:20230314T110000
DTEND;TZID=America/Los_Angeles:20230314T130000
LOCATION:Online
END:VEVENT
BEGIN:VEVENT
UID:ce49639bdf389357124f3a4d076e0814
DTSTAMP:20260422T204750Z
SUMMARY:Level 3: Second Beats (5/6)
DESCRIPTION:taught by Will Hines\nat Online
DTSTART;TZID=America/Los_Angeles:20230321T110000
DTEND;TZID=America/Los_Angeles:20230321T130000
LOCATION:Online
END:VEVENT
BEGIN:VEVENT
UID:deb48183a76764bea170ce8e0874c20e
DTSTAMP:20260422T204750Z
SUMMARY:Level 3: Second Beats (6/6)
DESCRIPTION:taught by Will Hines\nat Online
DTSTART;TZID=America/Los_Angeles:20230328T110000
DTEND;TZID=America/Los_Angeles:20230328T130000
LOCATION:Online
END:VEVENT
BEGIN:VTIMEZONE
TZID:America/Los_Angeles
BEGIN:DAYLIGHT
DTSTART:20260401T000000
TZNAME:PDT
TZOFFSETTO:-0700
TZOFFSETFROM:-0700
END:DAYLIGHT
END:VTIMEZONE
END:VCALENDAR
