BEGIN:VCALENDAR
PRODID:-//eluceo/ical//2.0/EN
VERSION:2.0
CALSCALE:GREGORIAN
BEGIN:VEVENT
UID:552a730ad500710b1e94834f8a091aed
DTSTAMP:20260422T141804Z
SUMMARY:Think Less\, Do More (1/5)
DESCRIPTION:taught by Jim Wood$\nat Anthony Meindl Studios
DTSTART;TZID=America/Los_Angeles:20230708T120000
DTEND;TZID=America/Los_Angeles:20230708T143000
LOCATION:Anthony Meindl Studios
END:VEVENT
BEGIN:VEVENT
UID:5c92d2c78fa0b16b72ef65aec174372c
DTSTAMP:20260422T141804Z
SUMMARY:Think Less\, Do More (2/5)
DESCRIPTION:taught by Jim Wood$\nat Anthony Meindl Studios
DTSTART;TZID=America/Los_Angeles:20230715T120000
DTEND;TZID=America/Los_Angeles:20230715T143000
LOCATION:Anthony Meindl Studios
END:VEVENT
BEGIN:VEVENT
UID:681033b4cf338d2a082189742d8ae546
DTSTAMP:20260422T141804Z
SUMMARY:Think Less\, Do More (3/5)
DESCRIPTION:taught by Jim Wood$\nat Anthony Meindl Studios
DTSTART;TZID=America/Los_Angeles:20230722T120000
DTEND;TZID=America/Los_Angeles:20230722T143000
LOCATION:Anthony Meindl Studios
END:VEVENT
BEGIN:VEVENT
UID:97f42c24ae64ece8ee5cedb43ba28808
DTSTAMP:20260422T141804Z
SUMMARY:Think Less\, Do More (4/5)
DESCRIPTION:taught by Jim Wood$\nat Anthony Meindl Studios
DTSTART;TZID=America/Los_Angeles:20230729T120000
DTEND;TZID=America/Los_Angeles:20230729T143000
LOCATION:Anthony Meindl Studios
END:VEVENT
BEGIN:VEVENT
UID:a48e92167f2641740624709b7bd384df
DTSTAMP:20260422T141804Z
SUMMARY:Think Less\, Do More (5/5)
DESCRIPTION:taught by Jim Wood$\nat Madnani Theatre
DTSTART;TZID=America/Los_Angeles:20230813T203000
DTEND;TZID=America/Los_Angeles:20230813T213000
LOCATION:Madnani Theatre
END:VEVENT
BEGIN:VTIMEZONE
TZID:America/Los_Angeles
BEGIN:DAYLIGHT
DTSTART:20260401T000000
TZNAME:PDT
TZOFFSETTO:-0700
TZOFFSETFROM:-0700
END:DAYLIGHT
END:VTIMEZONE
END:VCALENDAR
