BEGIN:VCALENDAR
PRODID:-//eluceo/ical//2.0/EN
VERSION:2.0
CALSCALE:GREGORIAN
BEGIN:VEVENT
UID:0985a4e1c654f9944547fb3116c9facd
DTSTAMP:20260422T174454Z
SUMMARY:Noon Bitness - June 2023 (1/2)
DESCRIPTION:taught by Jim Wood$ and Will Hines\nat Clubhouse Downstairs
DTSTART;TZID=America/Los_Angeles:20230605T120000
DTEND;TZID=America/Los_Angeles:20230605T140000
LOCATION:Clubhouse Downstairs
END:VEVENT
BEGIN:VEVENT
UID:3d54d7d4bae5f919ead28bf8d3cc62fb
DTSTAMP:20260422T174454Z
SUMMARY:Noon Bitness - June 2023 (2/2)
DESCRIPTION:taught by Jim Wood$ and Will Hines\nat Clubhouse Downstairs
DTSTART;TZID=America/Los_Angeles:20230623T184500
DTEND;TZID=America/Los_Angeles:20230623T203000
LOCATION:Clubhouse Downstairs
END:VEVENT
BEGIN:VTIMEZONE
TZID:America/Los_Angeles
BEGIN:DAYLIGHT
DTSTART:20260401T000000
TZNAME:PDT
TZOFFSETTO:-0700
TZOFFSETFROM:-0700
END:DAYLIGHT
END:VTIMEZONE
END:VCALENDAR
