BEGIN:VCALENDAR
PRODID:-//eluceo/ical//2.0/EN
VERSION:2.0
CALSCALE:GREGORIAN
BEGIN:VEVENT
UID:c9ec35d6583d518be96d99a24b5289a4
DTSTAMP:20260424T144529Z
SUMMARY:Who The Fu*k Are You? - Afternoon (1/2)
DESCRIPTION:taught by Shannon O'Neill\nat Cre8tive NYC
DTSTART;TZID=America/New_York:20230911T150000
DTEND;TZID=America/New_York:20230911T180000
LOCATION:Cre8tive NYC
END:VEVENT
BEGIN:VEVENT
UID:d67a906390ca6a3f2dbaf3565cf3db23
DTSTAMP:20260424T144529Z
SUMMARY:Who The Fu*k Are You? - Afternoon (2/2)
DESCRIPTION:taught by Shannon O'Neill\nat Cre8tive NYC
DTSTART;TZID=America/New_York:20230918T150000
DTEND;TZID=America/New_York:20230918T180000
LOCATION:Cre8tive NYC
END:VEVENT
BEGIN:VTIMEZONE
TZID:America/New_York
BEGIN:DAYLIGHT
DTSTART:20260401T000000
TZNAME:EDT
TZOFFSETTO:-0400
TZOFFSETFROM:-0400
END:DAYLIGHT
END:VTIMEZONE
END:VCALENDAR
