BEGIN:VCALENDAR
PRODID:-//eluceo/ical//2.0/EN
VERSION:2.0
CALSCALE:GREGORIAN
BEGIN:VEVENT
UID:3a289c71916e34774b2047f5f2dd9153
DTSTAMP:20260420T051619Z
SUMMARY:Make it Big and Commit (1/7)
DESCRIPTION:taught by Julie Brister\nat Online
DTSTART;TZID=America/Los_Angeles:20240221T170000
DTEND;TZID=America/Los_Angeles:20240221T190000
LOCATION:Online
END:VEVENT
BEGIN:VEVENT
UID:5a4854cb30fbe4bfd9aabecd580d7c1f
DTSTAMP:20260420T051619Z
SUMMARY:Make it Big and Commit (2/7)
DESCRIPTION:taught by Julie Brister\nat Online
DTSTART;TZID=America/Los_Angeles:20240228T170000
DTEND;TZID=America/Los_Angeles:20240228T190000
LOCATION:Online
END:VEVENT
BEGIN:VEVENT
UID:8ba746ea63f3d4ffa4f37df72e2b040b
DTSTAMP:20260420T051619Z
SUMMARY:Make it Big and Commit (3/7)
DESCRIPTION:taught by Julie Brister\nat Online
DTSTART;TZID=America/Los_Angeles:20240306T170000
DTEND;TZID=America/Los_Angeles:20240306T190000
LOCATION:Online
END:VEVENT
BEGIN:VEVENT
UID:1a062d0adef1ac7210764058ff2d1cd6
DTSTAMP:20260420T051619Z
SUMMARY:Make it Big and Commit (4/7)
DESCRIPTION:taught by Julie Brister\nat Online
DTSTART;TZID=America/Los_Angeles:20240313T170000
DTEND;TZID=America/Los_Angeles:20240313T190000
LOCATION:Online
END:VEVENT
BEGIN:VEVENT
UID:6f1fb333673ec463deb2245c47c51e5b
DTSTAMP:20260420T051619Z
SUMMARY:Make it Big and Commit (5/7)
DESCRIPTION:taught by Julie Brister\nat Online
DTSTART;TZID=America/Los_Angeles:20240320T170000
DTEND;TZID=America/Los_Angeles:20240320T190000
LOCATION:Online
END:VEVENT
BEGIN:VEVENT
UID:e663fa0b61665805b31790d4476c4b90
DTSTAMP:20260420T051619Z
SUMMARY:Make it Big and Commit (6/7)
DESCRIPTION:taught by Julie Brister\nat Online
DTSTART;TZID=America/Los_Angeles:20240327T170000
DTEND;TZID=America/Los_Angeles:20240327T190000
LOCATION:Online
END:VEVENT
BEGIN:VEVENT
UID:0625967734f13b9cfd8efc98d1a0bb3f
DTSTAMP:20260420T051619Z
SUMMARY:Make it Big and Commit (7/7)
DESCRIPTION:taught by Julie Brister\nat Online
DTSTART;TZID=America/Los_Angeles:20240403T170000
DTEND;TZID=America/Los_Angeles:20240403T180000
LOCATION:Online
END:VEVENT
BEGIN:VTIMEZONE
TZID:America/Los_Angeles
BEGIN:DAYLIGHT
DTSTART:20260401T000000
TZNAME:PDT
TZOFFSETTO:-0700
TZOFFSETFROM:-0700
END:DAYLIGHT
END:VTIMEZONE
END:VCALENDAR
