BEGIN:VCALENDAR
PRODID:-//eluceo/ical//2.0/EN
VERSION:2.0
CALSCALE:GREGORIAN
BEGIN:VEVENT
UID:c0cc9d64837a13fbf7baaee3926d88bb
DTSTAMP:20260419T152848Z
SUMMARY:Craig Cackowski's Improv Class (1/3)
DESCRIPTION:taught by Craig Cackowski\nat Anthony Meindl Studios
DTSTART;TZID=America/Los_Angeles:20240313T190000
DTEND;TZID=America/Los_Angeles:20240313T220000
LOCATION:Anthony Meindl Studios
END:VEVENT
BEGIN:VEVENT
UID:680c3874be52f5200cfd8dfb36e134c3
DTSTAMP:20260419T152848Z
SUMMARY:Craig Cackowski's Improv Class (2/3)
DESCRIPTION:taught by Craig Cackowski\nat Anthony Meindl Studios
DTSTART;TZID=America/Los_Angeles:20240320T190000
DTEND;TZID=America/Los_Angeles:20240320T220000
LOCATION:Anthony Meindl Studios
END:VEVENT
BEGIN:VEVENT
UID:607d990c45e53228fe50e4cf78a634a3
DTSTAMP:20260419T152848Z
SUMMARY:Craig Cackowski's Improv Class (3/3)
DESCRIPTION:taught by Craig Cackowski\nat Anthony Meindl Studios
DTSTART;TZID=America/Los_Angeles:20240327T190000
DTEND;TZID=America/Los_Angeles:20240327T220000
LOCATION:Anthony Meindl Studios
END:VEVENT
BEGIN:VTIMEZONE
TZID:America/Los_Angeles
BEGIN:DAYLIGHT
DTSTART:20260401T000000
TZNAME:PDT
TZOFFSETTO:-0700
TZOFFSETFROM:-0700
END:DAYLIGHT
END:VTIMEZONE
END:VCALENDAR
